BEGIN:VCALENDAR
VERSION:2.0
PRODID:-//Narloch Piano Studio - ECPv6.15.20//NONSGML v1.0//EN
CALSCALE:GREGORIAN
METHOD:PUBLISH
X-ORIGINAL-URL:https://www.narlochpiano.com
X-WR-CALDESC:Events for Narloch Piano Studio
REFRESH-INTERVAL;VALUE=DURATION:PT1H
X-Robots-Tag:noindex
X-PUBLISHED-TTL:PT1H
BEGIN:VTIMEZONE
TZID:UTC
BEGIN:STANDARD
TZOFFSETFROM:+0000
TZOFFSETTO:+0000
TZNAME:UTC
DTSTART:20150101T000000
END:STANDARD
END:VTIMEZONE
BEGIN:VEVENT
DTSTART;TZID=UTC:20160305T203000
DTEND;TZID=UTC:20160305T213000
DTSTAMP:20260419T122914
CREATED:20160211T162015Z
LAST-MODIFIED:20160211T162321Z
UID:695-1457209800-1457213400@www.narlochpiano.com
SUMMARY:Second Species
DESCRIPTION:Second Species 2016 Tour\n\n\nNew Music for the Flute and Bassoon\n\n\nHannah Hammel\, flute\n\n\nBen Roidl-Ward\, bassoon\n\n\n \n\n\n$10 Suggested Donation\n\n\n \n\n\nProgram:\n\n\nSeven Pieces (2015) Theo Chandler (b. 1992)\n\n\nEnlaced (2016) Jesse Limbacher (b. 1991)\n\n\nMythical Maze (2015) Daria Tennikova-Satral (b. 1989)\n\n\ncarnal species (2015) Kurt Isaacson (b. 1986) \n\n\n(PAUSE) \n\n\ngrandFather (2012-13) Chris Fischer-Lochhead (b. 1984)\n\n\nCaccia (2016) Peter Kramer (b. 1989)\n\n\nSittin In A Tree (2016) Rob Hutchinson (b. 1970)\n\n\n \n\n\nSecond Species is an ensemble committed to exploring the sonic and expressive capabilities of the flute and bassoon duo by working closely with living composers in the development of new works and sharing this music with a broad range of audiences across the country. As students at the Oberlin Conservatory\, Hannah Hammel and Ben Roidl-Ward founded Second Species in 2015\, making their debut with the world premiere of Kurt Isaacson’s eerie carnal species. This season\, the duo expands its repertoire with commissions from Theo Chandler\, Rob Hutchinson\, Peter Kramer\, and Jesse Limbacher. Second Species will perform these new works in six cities on tour in spring of 2016 in addition to Brazilian composer Heitor Villa-Lobos’ mysterious and evocative Bachianas Brasilieras No. 6 \,Chris Fisher-Lochhead’s groundbreaking grandFather for solo bassoon\, and Daria Tennikova-Satral’s Mysterious Maze​ for solo flute.\n\n\n \n\n\nhttp://secondspecies.weebly.com/
URL:https://www.narlochpiano.com/event/second-species/
LOCATION:Narloch Piano Studio\, 4636 N Francisco Ave\, Chicago\, IL\, United States
END:VEVENT
BEGIN:VEVENT
DTSTART;TZID=UTC:20160310T193000
DTEND;TZID=UTC:20160310T210000
DTSTAMP:20260419T122914
CREATED:20160207T033709Z
LAST-MODIFIED:20160207T033709Z
UID:692-1457638200-1457643600@www.narlochpiano.com
SUMMARY:Patterns in a Chromatic Field
DESCRIPTION:Alexander Ellsworth and Christopher Narloch perform Morton Feldman’s rarely performed 90-minute work written in 1981: \nPATTERNS IN A CHROMATIC FIELD \nSuggested Donation: $10 \nAlexander Ellsworth\, cello\nChristopher Narloch\, piano
URL:https://www.narlochpiano.com/event/patterns-in-a-chromatic-field/
LOCATION:Narloch Piano Studio\, 4636 N Francisco Ave\, Chicago\, IL\, United States
END:VEVENT
BEGIN:VEVENT
DTSTART;TZID=UTC:20160326T203000
DTEND;TZID=UTC:20160326T210000
DTSTAMP:20260419T122914
CREATED:20160316T161527Z
LAST-MODIFIED:20160316T161527Z
UID:701-1459024200-1459026000@www.narlochpiano.com
SUMMARY:Earsight Duo
DESCRIPTION:Suggested Donation: $10 \nEdo Frenkel – “how to draw the human figure” for piano and video \nEarsight Duo is a creative duo that pairs Ferry’s daring percussion with Xuan’s virtuosic video art. Together\, they create programs that unite music and visuals with extraordinary skill\, humor\, and sophistication. \nEarsightDuo.com
URL:https://www.narlochpiano.com/event/earsight-duo-2/
LOCATION:Narloch Piano Studio\, 4636 N Francisco Ave\, Chicago\, IL\, United States
END:VEVENT
BEGIN:VEVENT
DTSTART;TZID=UTC:20160327T133000
DTEND;TZID=UTC:20160327T160000
DTSTAMP:20260419T122914
CREATED:20160316T161807Z
LAST-MODIFIED:20160316T161807Z
UID:702-1459085400-1459094400@www.narlochpiano.com
SUMMARY:Spring Recital
DESCRIPTION:Students of Narloch Piano Studio perform solo piano pieces \nRefreshment sign-up sheet:\nhttps://docs.google.com/spreadsheets/d/1IgtdTPKeq_M8svSQ5nQsvsRHLGX2Jh7_F_oyq3oqGZk/edit?usp=sharing  \nLive stream:\nustre.am/UH99
URL:https://www.narlochpiano.com/event/spring-recital-5/
LOCATION:Narloch Piano Studio\, 4636 N Francisco Ave\, Chicago\, IL\, United States
END:VEVENT
END:VCALENDAR