BEGIN:VCALENDAR
VERSION:2.0
PRODID:-//Narloch Piano Studio - ECPv6.15.20//NONSGML v1.0//EN
CALSCALE:GREGORIAN
METHOD:PUBLISH
X-ORIGINAL-URL:https://www.narlochpiano.com
X-WR-CALDESC:Events for Narloch Piano Studio
REFRESH-INTERVAL;VALUE=DURATION:PT1H
X-Robots-Tag:noindex
X-PUBLISHED-TTL:PT1H
BEGIN:VTIMEZONE
TZID:UTC
BEGIN:STANDARD
TZOFFSETFROM:+0000
TZOFFSETTO:+0000
TZNAME:UTC
DTSTART:20150101T000000
END:STANDARD
END:VTIMEZONE
BEGIN:VEVENT
DTSTART;TZID=UTC:20160102T083000
DTEND;TZID=UTC:20160102T213000
DTSTAMP:20260419T185142
CREATED:20151231T235726Z
LAST-MODIFIED:20151231T235726Z
UID:671-1451723400-1451770200@www.narlochpiano.com
SUMMARY:Earsight Duo
DESCRIPTION:Program:\nLong Distance: Monroe\, NC by Steven Snowden\nClapping Music Variations inspired by Steve Reich\nLong Distance: Brooklyn\, NY by Steven Snowden\n…Ex Machina: Genghis? by Carlos Sanchez-Gutierrez arr. Earsight Duo\nLong Distance: Atlanta\, GA by Steven Snowden \nBio:\nEarsight Duo is a creative duo that pairs Ferry’s daring percussion with Xuan’s virtuosic video art. Together\, they create programs that unite music and visuals with extraordinary skill\, humor\, and sophistication. First prize winners of the 2015 SMIA Competition\, their upcoming season includes a week-long residency at the University of South Carolina and a featured showcase at the Chamber Music America conference at (Le) Poisson Rouge.\nEarsightDuo.com
URL:https://www.narlochpiano.com/event/earsight-duo/
LOCATION:Narloch Piano Studio\, 4636 N Francisco Ave\, Chicago\, IL\, United States
END:VEVENT
END:VCALENDAR