BEGIN:VCALENDAR
VERSION:2.0
PRODID:-//Narloch Piano Studio - ECPv6.15.20//NONSGML v1.0//EN
CALSCALE:GREGORIAN
METHOD:PUBLISH
X-WR-CALNAME:Narloch Piano Studio
X-ORIGINAL-URL:https://www.narlochpiano.com
X-WR-CALDESC:Events for Narloch Piano Studio
REFRESH-INTERVAL;VALUE=DURATION:PT1H
X-Robots-Tag:noindex
X-PUBLISHED-TTL:PT1H
BEGIN:VTIMEZONE
TZID:UTC
BEGIN:STANDARD
TZOFFSETFROM:+0000
TZOFFSETTO:+0000
TZNAME:UTC
DTSTART:20140101T000000
END:STANDARD
END:VTIMEZONE
BEGIN:VEVENT
DTSTART;TZID=UTC:20151025T130000
DTEND;TZID=UTC:20151025T170000
DTSTAMP:20260420T085230
CREATED:20151013T024657Z
LAST-MODIFIED:20151013T024657Z
UID:664-1445778000-1445792400@www.narlochpiano.com
SUMMARY:NPS Halloween Recital
DESCRIPTION:
URL:https://www.narlochpiano.com/event/nps-halloween-recital/
LOCATION:Narloch Piano Studio\, 4636 N Francisco Ave\, Chicago\, IL\, United States
END:VEVENT
END:VCALENDAR