BEGIN:VCALENDAR
VERSION:2.0
PRODID:-//Narloch Piano Studio - ECPv6.15.20//NONSGML v1.0//EN
CALSCALE:GREGORIAN
METHOD:PUBLISH
X-ORIGINAL-URL:https://www.narlochpiano.com
X-WR-CALDESC:Events for Narloch Piano Studio
REFRESH-INTERVAL;VALUE=DURATION:PT1H
X-Robots-Tag:noindex
X-PUBLISHED-TTL:PT1H
BEGIN:VTIMEZONE
TZID:UTC
BEGIN:STANDARD
TZOFFSETFROM:+0000
TZOFFSETTO:+0000
TZNAME:UTC
DTSTART:20140101T000000
END:STANDARD
END:VTIMEZONE
BEGIN:VEVENT
DTSTART;TZID=UTC:20150807T190000
DTEND;TZID=UTC:20150807T210000
DTSTAMP:20260420T142522
CREATED:20150428T164322Z
LAST-MODIFIED:20150428T164920Z
UID:589-1438974000-1438981200@www.narlochpiano.com
SUMMARY:Ryan Packard and Quince
DESCRIPTION:Ryan Packard\, percussion\, opens for the contemporary vocal ensemble Quince as part of the Horner Park Advosory Council (HPAC) Summer Concert Series at Ravenswood Manor Park. \nRyan Packard bio:\nRyan Packard is a percussionist\, improviser\, and composer based in Chicago who avidly performs contemporary and experimental music.  He studied percussion at Oberlin Conservatory of Music under Michael Rosen\, completed his Masters of Music at McGill University under Aiyun Huang and Fabrice Marandola\, and currently performs both independently and with Fonema Consort.\n \nQuince bio:\nWith the precision and flexibility of modern chamber musicians\, Quince Contemporary Vocal Ensemble specializes in experimental vocal repertoire that is changing the paradigm of contemporary music. Comprised of vocalists Elizabeth Pearse\, Kayleigh Butcher\, Amanda DeBoer Bartlett\, and Carrie Henneman Shaw\, Quince is dedicated to providing a wider exposure for the music of living composers.
URL:https://www.narlochpiano.com/event/ryan-packard-and-quince/
LOCATION:Ravenswood Manor Park\, Chicago\, IL\, United States
END:VEVENT
END:VCALENDAR